BEGIN:VCALENDAR
VERSION:2.0
PRODID:-//wp-events-plugin.com//7.2.3.1//EN
TZID:Europe/Stockholm
X-WR-TIMEZONE:Europe/Stockholm
BEGIN:VEVENT
UID:20@portal.storuman.se
DTSTART;TZID=Europe/Stockholm:20240720T110000
DTEND;TZID=Europe/Stockholm:20240720T160000
DTSTAMP:20240714T141947Z
URL:https://portal.storuman.se/evenemang/boksjodagen-20-juli-2024-i-boksjo
 n-med-auktion/
SUMMARY:Boksjödagen 20 Juli 2024 i Boksjön - med Auktion
DESCRIPTION:BOKSJÖDAGEN – med Auktion20 JULI  2024 i Boksjögården \
 n11.00-16.00 Försäljning av fika\, Palt\, våfflor\, Keramik\, hantverk
 \, hemstickat\, hembakat\, tipsrunda mm.\n10.30 Förvisning auktionsgods\
 n11.00-13.00 Auktion\n13.00 Musikunderhållning\nVarmt Välkomna!\nArr: 
 Boksjö bygdegårdsförening
CATEGORIES:Allmänt
LOCATION:Storumans Kommun\, Blå Vägen 256\, Storuman\, 92332\, Sverige
GEO:65.0950769;17.1179718
X-APPLE-STRUCTURED-LOCATION;VALUE=URI;X-ADDRESS=Blå Vägen 256\, Storuman\
 , 92332\, Sverige;X-APPLE-RADIUS=100;X-TITLE=Storumans Kommun:geo:65.09507
 69,17.1179718
END:VEVENT
BEGIN:VTIMEZONE
TZID:Europe/Stockholm
X-LIC-LOCATION:Europe/Stockholm
BEGIN:DAYLIGHT
DTSTART:20240331T030000
TZOFFSETFROM:+0100
TZOFFSETTO:+0200
TZNAME:CEST
END:DAYLIGHT
END:VTIMEZONE
END:VCALENDAR