BEGIN:VCALENDAR
VERSION:2.0
PRODID:-//wp-events-plugin.com//7.2.3.1//EN
TZID:Europe/Stockholm
X-WR-TIMEZONE:Europe/Stockholm
BEGIN:VEVENT
UID:37@portal.storuman.se
DTSTART;TZID=Europe/Stockholm:20251004T190000
DTEND;TZID=Europe/Stockholm:20251004T213000
DTSTAMP:20250930T082943Z
URL:https://portal.storuman.se/evenemang/dans-2/
SUMMARY:Dans
DESCRIPTION:\nDans på folketshus I Storuman lördag 4/10 kl 19 till Tommys
  orkester arr:Idafonden\n
CATEGORIES:Allmänt,Idrott och motion
LOCATION:Storumans Kommun\, Blå Vägen 256\, Storuman\, 92332\, Sverige
GEO:65.0950769;17.1179718
X-APPLE-STRUCTURED-LOCATION;VALUE=URI;X-ADDRESS=Blå Vägen 256\, Storuman\
 , 92332\, Sverige;X-APPLE-RADIUS=100;X-TITLE=Storumans Kommun:geo:65.09507
 69,17.1179718
END:VEVENT
BEGIN:VTIMEZONE
TZID:Europe/Stockholm
X-LIC-LOCATION:Europe/Stockholm
BEGIN:DAYLIGHT
DTSTART:20250330T030000
TZOFFSETFROM:+0100
TZOFFSETTO:+0200
TZNAME:CEST
END:DAYLIGHT
END:VTIMEZONE
END:VCALENDAR