BEGIN:VCALENDAR
VERSION:2.0
PRODID:-//wp-events-plugin.com//7.2.3.1//EN
TZID:Europe/Stockholm
X-WR-TIMEZONE:Europe/Stockholm
BEGIN:VEVENT
UID:44@portal.storuman.se
DTSTART;TZID=Europe/Stockholm:20260523T000000
DTEND;TZID=Europe/Stockholm:20260523T000000
DTSTAMP:20260424T144548Z
URL:https://portal.storuman.se/evenemang/familjeskoj/
SUMMARY:Familjeskoj
DESCRIPTION:Familjeskoj på Folkets hus i Tärnaby. Blir lekar\, småtävli
 ngar\, fika och massa kul. Arrangeras av Frikyrkoförsamlingen Tärnaby ti
 llsammans med Bibelfjälls elever.\nKom och var med och umgås 
CATEGORIES:Allmänt
LOCATION:Storumans Kommun\, Blå Vägen 256\, Storuman\, 92332\, Sverige
GEO:65.0950769;17.1179718
X-APPLE-STRUCTURED-LOCATION;VALUE=URI;X-ADDRESS=Blå Vägen 256\, Storuman\
 , 92332\, Sverige;X-APPLE-RADIUS=100;X-TITLE=Storumans Kommun:geo:65.09507
 69,17.1179718
END:VEVENT
BEGIN:VTIMEZONE
TZID:Europe/Stockholm
X-LIC-LOCATION:Europe/Stockholm
BEGIN:DAYLIGHT
DTSTART:20260329T030000
TZOFFSETFROM:+0100
TZOFFSETTO:+0200
TZNAME:CEST
END:DAYLIGHT
END:VTIMEZONE
END:VCALENDAR