BEGIN:VCALENDAR
VERSION:2.0
PRODID:-//wp-events-plugin.com//7.2.3.1//EN
TZID:Europe/Stockholm
X-WR-TIMEZONE:Europe/Stockholm
BEGIN:VEVENT
UID:9@portal.storuman.se
DTSTART;TZID=Europe/Stockholm:20230606T100000
DTEND;TZID=Europe/Stockholm:20230606T150000
DTSTAMP:20230531T135949Z
URL:https://portal.storuman.se/evenemang/fira-nationaldagen-6-juni/
SUMMARY:Fira nationaldagen 6 juni
DESCRIPTION:Storuman\, Torget med start kl. 10.00\n\n 	Ekumenisk gudstjäns
 t\n 	Tal av kommunstyrelsens ordförande Ulrik Dahlgren\n 	Utdelning av di
 plom till nya svenska medborgare\n 	Barnkör och nationalsång\n 	Fika fin
 ns att köpa\n\nTärnaby\, Vävstugan på Grenvägen kl. 11.00-15.00\n\n 	
 Öppet hus i Vävstugan\n 	Fikaförsäljning\, mjukkaka\, hantverksshop\n 
 	Utställning med gamla bilder\n 	Nationaldagstal av Anders Persson\n 	Utd
 elning av diplom till nya svenska medborgare\n\n&nbsp\;
ATTACH;FMTTYPE=image/jpeg:https://portal.storuman.se/wp-content/uploads/20
 23/05/Nationaldagen-storumanbladet.jpg
CATEGORIES:Allmänt
LOCATION:Storumans Kommun\, Blå Vägen 256\, Storuman\, 92332\, Sverige
GEO:65.0950769;17.1179718
X-APPLE-STRUCTURED-LOCATION;VALUE=URI;X-ADDRESS=Blå Vägen 256\, Storuman\
 , 92332\, Sverige;X-APPLE-RADIUS=100;X-TITLE=Storumans Kommun:geo:65.09507
 69,17.1179718
END:VEVENT
BEGIN:VTIMEZONE
TZID:Europe/Stockholm
X-LIC-LOCATION:Europe/Stockholm
BEGIN:DAYLIGHT
DTSTART:20230326T030000
TZOFFSETFROM:+0100
TZOFFSETTO:+0200
TZNAME:CEST
END:DAYLIGHT
END:VTIMEZONE
END:VCALENDAR