BEGIN:VCALENDAR
VERSION:2.0
PRODID:-//wp-events-plugin.com//7.2.3.1//EN
TZID:Europe/Stockholm
X-WR-TIMEZONE:Europe/Stockholm
BEGIN:VEVENT
UID:27@portal.storuman.se
DTSTART;TZID=Europe/Stockholm:20250901T190000
DTEND;TZID=Europe/Stockholm:20250910T200000
DTSTAMP:20250904T131038Z
URL:https://portal.storuman.se/evenemang/fredrik-furu-konsert-2/
SUMMARY:Fredrik Furu Konsert
DESCRIPTION:
CATEGORIES:Allmänt
END:VEVENT
BEGIN:VTIMEZONE
TZID:Europe/Stockholm
X-LIC-LOCATION:Europe/Stockholm
BEGIN:DAYLIGHT
DTSTART:20250330T030000
TZOFFSETFROM:+0100
TZOFFSETTO:+0200
TZNAME:CEST
END:DAYLIGHT
END:VTIMEZONE
END:VCALENDAR