BEGIN:VCALENDAR
VERSION:2.0
PRODID:-//wp-events-plugin.com//7.2.3.1//EN
TZID:Europe/Stockholm
X-WR-TIMEZONE:Europe/Stockholm
BEGIN:VEVENT
UID:13@portal.storuman.se
DTSTART;TZID=Europe/Stockholm:20230728T190000
DTEND;TZID=Europe/Stockholm:20230728T200000
DTSTAMP:20230725T063836Z
URL:https://portal.storuman.se/evenemang/gospel-jazz-konsert/
SUMMARY:Gospel/Jazz konsert
DESCRIPTION:Gospel/Jazz konsert i Tärna  kyrka\nFredag 28/7 kl.19.00\nmed
  Gospel Stompers\nFritt inträde\, insamling till\nVärldens barn\nVÄLKOM
 MEN!
CATEGORIES:Allmänt
LOCATION:Storumans Kommun\, Blå Vägen 256\, Storuman\, 92332\, Sverige
GEO:65.0950769;17.1179718
X-APPLE-STRUCTURED-LOCATION;VALUE=URI;X-ADDRESS=Blå Vägen 256\, Storuman\
 , 92332\, Sverige;X-APPLE-RADIUS=100;X-TITLE=Storumans Kommun:geo:65.09507
 69,17.1179718
END:VEVENT
BEGIN:VTIMEZONE
TZID:Europe/Stockholm
X-LIC-LOCATION:Europe/Stockholm
BEGIN:DAYLIGHT
DTSTART:20230326T030000
TZOFFSETFROM:+0100
TZOFFSETTO:+0200
TZNAME:CEST
END:DAYLIGHT
END:VTIMEZONE
END:VCALENDAR