BEGIN:VCALENDAR
VERSION:2.0
PRODID:-//wp-events-plugin.com//7.2.3.1//EN
TZID:Europe/Stockholm
X-WR-TIMEZONE:Europe/Stockholm
BEGIN:VEVENT
UID:21@portal.storuman.se
DTSTART;TZID=Europe/Stockholm:20241207T160000
DTEND;TZID=Europe/Stockholm:20241207T170000
DTSTAMP:20241205T142428Z
URL:https://portal.storuman.se/evenemang/nar-det-lider-mot-jul-julkonsert-
 med-mariakoren/
SUMMARY:När det lider mot jul - Julkonsert med Mariakören
DESCRIPTION:Mariakören framför klassisk och nyskriven julmusik\nVarmt vä
 lkommen till församlingsgården! Vi serverar kaffe från kl. 15.30\n&nbsp
 \;
CATEGORIES:Allmänt
END:VEVENT
BEGIN:VTIMEZONE
TZID:Europe/Stockholm
X-LIC-LOCATION:Europe/Stockholm
BEGIN:STANDARD
DTSTART:20241027T020000
TZOFFSETFROM:+0200
TZOFFSETTO:+0100
TZNAME:CET
END:STANDARD
END:VTIMEZONE
END:VCALENDAR