BEGIN:VCALENDAR
VERSION:2.0
PRODID:-//wp-events-plugin.com//7.2.3.1//EN
TZID:Europe/Stockholm
X-WR-TIMEZONE:Europe/Stockholm
BEGIN:VEVENT
UID:32@portal.storuman.se
DTSTART;TZID=Europe/Stockholm:20251003T190000
DTEND;TZID=Europe/Stockholm:20251003T200000
DTSTAMP:20250911T113702Z
URL:https://portal.storuman.se/evenemang/pubquiz-m-afterwork/
SUMMARY:Pubquiz M/Afterwork
DESCRIPTION:Pubquiz i Vardagsrummet med allmänkunskap på programmet.\nKan
  kombineras med Afterworkmiddag på Hotell Toppen (Se Hotell Toppens eget 
 inlägg om mat)\nQuiz spelar på appen Kahoot och är en digital frågespo
 rt som tar max 1 timme. \nKom och häng med på en trevlig start på helg
 en i Vardagsrummet!
ATTACH;FMTTYPE=image/jpeg:https://portal.storuman.se/wp-content/uploads/20
 25/09/PubQuiz_left_700x700.jpg
CATEGORIES:Allmänt
LOCATION:Storumans Kommun\, Blå Vägen 256\, Storuman\, 92332\, Sverige
GEO:65.0950769;17.1179718
X-APPLE-STRUCTURED-LOCATION;VALUE=URI;X-ADDRESS=Blå Vägen 256\, Storuman\
 , 92332\, Sverige;X-APPLE-RADIUS=100;X-TITLE=Storumans Kommun:geo:65.09507
 69,17.1179718
END:VEVENT
BEGIN:VTIMEZONE
TZID:Europe/Stockholm
X-LIC-LOCATION:Europe/Stockholm
BEGIN:DAYLIGHT
DTSTART:20250330T030000
TZOFFSETFROM:+0100
TZOFFSETTO:+0200
TZNAME:CEST
END:DAYLIGHT
END:VTIMEZONE
END:VCALENDAR