BEGIN:VCALENDAR
VERSION:2.0
PRODID:-//wp-events-plugin.com//7.2.3.1//EN
TZID:Europe/Stockholm
X-WR-TIMEZONE:Europe/Stockholm
BEGIN:VEVENT
UID:38@portal.storuman.se
DTSTART;TZID=Europe/Stockholm:20251022T100000
DTEND;TZID=Europe/Stockholm:20251022T150000
DTSTAMP:20251003T141343Z
URL:https://portal.storuman.se/evenemang/seniormassa/
SUMMARY:Seniormässa
DESCRIPTION:Välkommen på Seniormässa onsdag 22 oktober på Folkets hus i
  Storuman. Mässhallen har öppet kl. 11.00-15.00. Popup-café med Utsikte
 n. \nFöreläsningschema:\n10.00-10.30: "Vardagsmotion och Fysisk aktivit
 et på Recept\, FAR" (digitalt)\n10.40-11.10: "Stöd vid våld i nära rel
 ationer - en föreläsning för seniorer" (digitalt)\n12.00-12.45: "Samisk
  näring" (på plats)\n13.00-13.45: ”Från vinglig till stabil med övni
 ngar i din mobil”\, Marlene Sandlund\, professor i fysioterapi vid Umeå
  Universitet (digitalt)\n14.15-15.45: "Vad alla bör veta om åldrandet"\,
  Yngve Gustafson\, professor emeritus vid Umeå Universitet\, specialist i
  geriatrik (digitalt)
ATTACH;FMTTYPE=image/jpeg:https://portal.storuman.se/wp-content/uploads/20
 25/10/Seniormassa-2025-Facebook-inlagg-1.png
CATEGORIES:Allmänt
LOCATION:Storumans Kommun\, Blå Vägen 256\, Storuman\, 92332\, Sverige
GEO:65.0950769;17.1179718
X-APPLE-STRUCTURED-LOCATION;VALUE=URI;X-ADDRESS=Blå Vägen 256\, Storuman\
 , 92332\, Sverige;X-APPLE-RADIUS=100;X-TITLE=Storumans Kommun:geo:65.09507
 69,17.1179718
END:VEVENT
BEGIN:VTIMEZONE
TZID:Europe/Stockholm
X-LIC-LOCATION:Europe/Stockholm
BEGIN:DAYLIGHT
DTSTART:20250330T030000
TZOFFSETFROM:+0100
TZOFFSETTO:+0200
TZNAME:CEST
END:DAYLIGHT
END:VTIMEZONE
END:VCALENDAR