BEGIN:VCALENDAR
VERSION:2.0
PRODID:-//wp-events-plugin.com//7.2.3.1//EN
TZID:Europe/Stockholm
X-WR-TIMEZONE:Europe/Stockholm
BEGIN:VEVENT
UID:7@portal.storuman.se
DTSTART;TZID=Europe/Stockholm:20230705T150000
DTEND;TZID=Europe/Stockholm:20230705T180000
DTSTAMP:20230526T085850Z
URL:https://portal.storuman.se/evenemang/skogsdag-i-sorsele/
SUMMARY:Skogsdag i Sorsele!
DESCRIPTION:Gillar du skog?\nTa med din partner\, En kompis eller ditt (vux
 na) barn och kom vår skogsträff i juni i grannkommunen Sorsele.\nVi komm
 er att prata om skogsskador som drabbar våra skogar och klimatanpassning.
 \nNär: onsdag 5 juli kl. 15-18\, \nSista anmälningsdag: 30 juni.\nFråg
 or och anmälan till Helena Gustafsson\, 0910-438407\, helena.gustafsson@s
 kogsstyrelsen.se\nSkogsstyrelsen bjuder på förtäring under träffarna s
 å glöm inte att ange matallergi vid anmälan!\nMer information kan du ä
 ven hitta på vår hemsida: www.skogsstyrelsen.se/norravasterbottensdistri
 kt\nTänk på att vi kommer att vara utomhus och i skogsmiljö\, så tag k
 läder och skor efter väder och underlag. Kartor och vägbeskrivning skic
 kas ut via e-post någon dag före aktuell träff.\nVarmt välkommen!\n\nT
 ipsa gärna din bekantskapskrets om träffarna.\n
ATTACH;FMTTYPE=image/jpeg:https://portal.storuman.se/wp-content/uploads/20
 23/05/bild_liten.jpg
CATEGORIES:Allmänt
LOCATION:Storumans Kommun\, Blå Vägen 256\, Storuman\, 92332\, Sverige
GEO:65.0950769;17.1179718
X-APPLE-STRUCTURED-LOCATION;VALUE=URI;X-ADDRESS=Blå Vägen 256\, Storuman\
 , 92332\, Sverige;X-APPLE-RADIUS=100;X-TITLE=Storumans Kommun:geo:65.09507
 69,17.1179718
END:VEVENT
BEGIN:VTIMEZONE
TZID:Europe/Stockholm
X-LIC-LOCATION:Europe/Stockholm
BEGIN:DAYLIGHT
DTSTART:20230326T030000
TZOFFSETFROM:+0100
TZOFFSETTO:+0200
TZNAME:CEST
END:DAYLIGHT
END:VTIMEZONE
END:VCALENDAR