BEGIN:VCALENDAR
VERSION:2.0
PRODID:-//wp-events-plugin.com//7.2.3.1//EN
TZID:Europe/Stockholm
X-WR-TIMEZONE:Europe/Stockholm
BEGIN:VEVENT
UID:33@portal.storuman.se
DTSTART;TZID=Europe/Stockholm:20251120T180000
DTEND;TZID=Europe/Stockholm:20251120T210000
DTSTAMP:20250911T114140Z
URL:https://portal.storuman.se/evenemang/spa-kvall-ladies-night/
SUMMARY:Spa-kväll Ladies Night
DESCRIPTION:\nLadies Night – SPA-kväll \n 20 november 18.00-21.00\n Vard
 agsrummet &amp\; bastuavdelningen\n\n\nHöstmörkret och kanske även snö
 n är på plats i slutet av november – och vad passar bättre än att kr
 ypa ur vardagsstressen och in i en vit morgonrock? \n\n\nVi startar i Vard
 agsrummet\, där du kan beställa nåt gott i glaset\, en ostbricka eller 
 nåt från menyn. Lokala företagare inom hud\, fot och hår visar upp sin
 a produkter (ja\, lite som en godisbutik för vuxna – fast med krämer o
 ch fotbad istället för lakritsremmar). Och vem vet\, det kan dyka upp sm
 akprov även där \n\n\nUnder kvällen kan du spela våra spel\, mingla oc
 h ladda upp innan vi avslutar i hotellets bastuavdelning – en perfekt av
 slutning i novembermörkret.\n
ATTACH;FMTTYPE=image/jpeg:https://portal.storuman.se/wp-content/uploads/20
 25/09/SpaNight_700x700.jpg
CATEGORIES:Allmänt
LOCATION:Storumans Kommun\, Blå Vägen 256\, Storuman\, 92332\, Sverige
GEO:65.0950769;17.1179718
X-APPLE-STRUCTURED-LOCATION;VALUE=URI;X-ADDRESS=Blå Vägen 256\, Storuman\
 , 92332\, Sverige;X-APPLE-RADIUS=100;X-TITLE=Storumans Kommun:geo:65.09507
 69,17.1179718
END:VEVENT
BEGIN:VTIMEZONE
TZID:Europe/Stockholm
X-LIC-LOCATION:Europe/Stockholm
BEGIN:STANDARD
DTSTART:20251026T020000
TZOFFSETFROM:+0200
TZOFFSETTO:+0100
TZNAME:CET
END:STANDARD
END:VTIMEZONE
END:VCALENDAR