BEGIN:VCALENDAR
VERSION:2.0
PRODID:-//wp-events-plugin.com//7.2.3.1//EN
TZID:Europe/Stockholm
X-WR-TIMEZONE:Europe/Stockholm
BEGIN:VEVENT
UID:31@portal.storuman.se
DTSTART;TZID=Europe/Stockholm:20251129T130000
DTEND;TZID=Europe/Stockholm:20251129T180000
DTSTAMP:20250911T113003Z
URL:https://portal.storuman.se/evenemang/stryktipslordag-i-vardagsrummet-3
 /
SUMMARY:Stryktipslördag i Vardagsrummet
DESCRIPTION:Stryktipslördag i vardagsrummet på Hotell Toppen!\nVi möts o
 ch diskuterar fotboll\, dagens stryktipsrad\, äter god mat\, har en fotbo
 llsquiz och mår gott!\nVälkommen!
ATTACH;FMTTYPE=image/jpeg:https://portal.storuman.se/wp-content/uploads/20
 25/09/Stryktipslordag_700x700-2.jpg
CATEGORIES:Allmänt
LOCATION:Storumans Kommun\, Blå Vägen 256\, Storuman\, 92332\, Sverige
GEO:65.0950769;17.1179718
X-APPLE-STRUCTURED-LOCATION;VALUE=URI;X-ADDRESS=Blå Vägen 256\, Storuman\
 , 92332\, Sverige;X-APPLE-RADIUS=100;X-TITLE=Storumans Kommun:geo:65.09507
 69,17.1179718
END:VEVENT
BEGIN:VTIMEZONE
TZID:Europe/Stockholm
X-LIC-LOCATION:Europe/Stockholm
BEGIN:STANDARD
DTSTART:20251026T020000
TZOFFSETFROM:+0200
TZOFFSETTO:+0100
TZNAME:CET
END:STANDARD
END:VTIMEZONE
END:VCALENDAR