BEGIN:VCALENDAR
VERSION:2.0
PRODID:-//wp-events-plugin.com//7.2.3.1//EN
TZID:Europe/Stockholm
X-WR-TIMEZONE:Europe/Stockholm
BEGIN:VEVENT
UID:29@portal.storuman.se
DTSTART;TZID=Europe/Stockholm:20251101T130000
DTEND;TZID=Europe/Stockholm:20251101T180000
DTSTAMP:20251003T140942Z
URL:https://portal.storuman.se/evenemang/stryktipslordag-i-vardagsrummet/
SUMMARY:Stryktipslördag i Vardagsrummet
DESCRIPTION:Stryktipslördag i Vardagsrummet på Hotell Toppen!\n\nÄr du i
 ntresserad av fotboll så har vi en lördag i månaden en träff i Vardags
 rummet där vi diskuterar fotboll\, har en quiz\, spelar lite spel\, titta
 r på tv och hjälps åt att hitta 13 rätt på Stryktipset. Det serveras 
 också engelsk frukost\, trots att det är mer kring lunchtid.\n\nVälkomm
 en!
ATTACH;FMTTYPE=image/jpeg:https://portal.storuman.se/wp-content/uploads/20
 25/09/Stryktipslordag_700x700.jpg
CATEGORIES:Allmänt
LOCATION:Storumans Kommun\, Blå Vägen 256\, Storuman\, 92332\, Sverige
GEO:65.0950769;17.1179718
X-APPLE-STRUCTURED-LOCATION;VALUE=URI;X-ADDRESS=Blå Vägen 256\, Storuman\
 , 92332\, Sverige;X-APPLE-RADIUS=100;X-TITLE=Storumans Kommun:geo:65.09507
 69,17.1179718
END:VEVENT
BEGIN:VTIMEZONE
TZID:Europe/Stockholm
X-LIC-LOCATION:Europe/Stockholm
BEGIN:STANDARD
DTSTART:20251026T020000
TZOFFSETFROM:+0200
TZOFFSETTO:+0100
TZNAME:CET
END:STANDARD
END:VTIMEZONE
END:VCALENDAR