BEGIN:VCALENDAR
VERSION:2.0
PRODID:-//wp-events-plugin.com//7.2.3.1//EN
TZID:Europe/Stockholm
X-WR-TIMEZONE:Europe/Stockholm
BEGIN:VEVENT
UID:6@portal.storuman.se
DTSTART;TZID=Europe/Stockholm:20230430T190000
DTEND;TZID=Europe/Stockholm:20230430T214500
DTSTAMP:20230425T114433Z
URL:https://portal.storuman.se/evenemang/varfest-och-majbrasa-i-slussfors/
SUMMARY:Vårfest och majbrasa i Slussfors
DESCRIPTION:Välkommen till Glada Timmens vårfest  för alla kl.19.00 i B
 etel\, Slussfors\nEfter barnens program blir det tårtkalas\, saft och kaf
 fe för alla.Därefter tänds majbrasan ca 20.30 vid slalombacken i Slussf
 ors.Vårsånger och varmkorvförsäljning
ATTACH;FMTTYPE=image/jpeg:https://portal.storuman.se/wp-content/uploads/20
 23/04/majbrasa-1b.jpg
CATEGORIES:Allmänt
LOCATION:Storumans Kommun\, Blå Vägen 256\, Storuman\, 92332\, Sverige
GEO:65.0950769;17.1179718
X-APPLE-STRUCTURED-LOCATION;VALUE=URI;X-ADDRESS=Blå Vägen 256\, Storuman\
 , 92332\, Sverige;X-APPLE-RADIUS=100;X-TITLE=Storumans Kommun:geo:65.09507
 69,17.1179718
END:VEVENT
BEGIN:VTIMEZONE
TZID:Europe/Stockholm
X-LIC-LOCATION:Europe/Stockholm
BEGIN:DAYLIGHT
DTSTART:20230326T030000
TZOFFSETFROM:+0100
TZOFFSETTO:+0200
TZNAME:CEST
END:DAYLIGHT
END:VTIMEZONE
END:VCALENDAR